BEGIN:VCALENDAR
VERSION:2.0
PRODID:-//Association of Mar Ivanios College Old Students in North America - ECPv6.11.2//NONSGML v1.0//EN
CALSCALE:GREGORIAN
METHOD:PUBLISH
X-ORIGINAL-URL:https://amicosna.org
X-WR-CALDESC:Events for Association of Mar Ivanios College Old Students in North America
REFRESH-INTERVAL;VALUE=DURATION:PT1H
X-Robots-Tag:noindex
X-PUBLISHED-TTL:PT1H
BEGIN:VTIMEZONE
TZID:America/Chicago
BEGIN:DAYLIGHT
TZOFFSETFROM:-0600
TZOFFSETTO:-0500
TZNAME:CDT
DTSTART:20250309T080000
END:DAYLIGHT
BEGIN:STANDARD
TZOFFSETFROM:-0500
TZOFFSETTO:-0600
TZNAME:CST
DTSTART:20251102T070000
END:STANDARD
END:VTIMEZONE
BEGIN:VEVENT
DTSTART;TZID=America/Chicago:20250615T183000
DTEND;TZID=America/Chicago:20250615T200000
DTSTAMP:20260422T153914
CREATED:20250614T145953Z
LAST-MODIFIED:20250614T145953Z
UID:6201-1750012200-1750017600@amicosna.org
SUMMARY:Breaking the Cycle of Addiction in the Family:  What Every Parent Needs to Know
DESCRIPTION:Dear Members\,\n\n\n\n\n\nAMICOSNA is pleased to host a session on a highly relevant and meaningful topic\, Breaking the Cycle of Addiction in the Family: What Every Parent Needs to Know\, presented by renowned psychiatrist Dr. Thomas Idiculla.\n\n\n\n\n\nWe believe this initiative will offer great value to our community and encourage you to attend and support it.\n\n\n\n\n\nDate: Sunday\, June 15\, 2025\n\n\nTime: 6:30 PM CT / 7:30 PM ET\n\n\nPlatform: Zoom\n\n\n Open to All – AMICOSians and Non-AMICOSians Alike\n\n\n\n\n\nFeel free to join with your spouse\, family\, and friends!\n\n\n\n\n\nYour presence and support will be greatly appreciated.\n\n\nPlease see the flyer below for more details.
URL:https://amicosna.org/eventt/breaking-the-cycle-of-addiction-in-the-family-what-every-parent-needs-to-know/
ATTACH;FMTTYPE=image/png:https://amicosna.org/wp-content/uploads/2025/06/Breaking-the-Cycle-of-Addiction-4.png
ORGANIZER;CN="AMICOS in North America":MAILTO:info@amicosna.org
END:VEVENT
END:VCALENDAR