BEGIN:VCALENDAR
VERSION:2.0
PRODID:-//Association of Mar Ivanios College Old Students in North America - ECPv6.11.2//NONSGML v1.0//EN
CALSCALE:GREGORIAN
METHOD:PUBLISH
X-ORIGINAL-URL:https://amicosna.org
X-WR-CALDESC:Events for Association of Mar Ivanios College Old Students in North America
REFRESH-INTERVAL;VALUE=DURATION:PT1H
X-Robots-Tag:noindex
X-PUBLISHED-TTL:PT1H
BEGIN:VTIMEZONE
TZID:America/Chicago
BEGIN:DAYLIGHT
TZOFFSETFROM:-0600
TZOFFSETTO:-0500
TZNAME:CDT
DTSTART:20250309T080000
END:DAYLIGHT
BEGIN:STANDARD
TZOFFSETFROM:-0500
TZOFFSETTO:-0600
TZNAME:CST
DTSTART:20251102T070000
END:STANDARD
END:VTIMEZONE
BEGIN:VEVENT
DTSTART;TZID=America/Chicago:20250406T180000
DTEND;TZID=America/Chicago:20250406T193000
DTSTAMP:20260422T172427
CREATED:20250327T185458Z
LAST-MODIFIED:20250328T122125Z
UID:6096-1743962400-1743967800@amicosna.org
SUMMARY:AMICOS ANNUAL GENERAL BODY MEETING October 6\, 2025
DESCRIPTION:
URL:https://amicosna.org/eventt/amicos-annual-general-body-meeting-2024/
LOCATION:Zoom\, IL\, United States
ATTACH;FMTTYPE=image/jpeg:https://amicosna.org/wp-content/uploads/2025/03/WhatsApp-Image-2025-03-19-at-6.25.57-PM.jpeg
ORGANIZER;CN="AMICOS in North America":MAILTO:info@amicosna.org
END:VEVENT
END:VCALENDAR